View In:
ArcGIS JavaScript
ArcGIS Online Map Viewer
ArcGIS Earth
ArcGIS Pro
Service Description:
Map Name: Inactive_Permit_Ind_MinMining
Legend
All Layers and Tables
Dynamic Legend
Dynamic All Layers
Layers:
Description:
Service Item Id: a9de97b33c434151860e7c805cfd4400
Copyright Text:
Spatial Reference:
102100
(3857)
LatestVCSWkid(0)
Single Fused Map Cache: true
Tile Info:
- Height: 256.0
- Width: 256.0
- DPI: 200.0
-
Levels of Detail: 24
-
Level ID: 1
[ Start Tile, End Tile ]
- Resolution: 78271.5169639999
- Scale: 2.95828763795777E8
-
Level ID: 2
[ Start Tile, End Tile ]
- Resolution: 39135.7584820001
- Scale: 1.47914381897889E8
-
Level ID: 3
[ Start Tile, End Tile ]
- Resolution: 19567.8792409999
- Scale: 7.3957190948944E7
-
Level ID: 4
[ Start Tile, End Tile ]
- Resolution: 9783.93962049996
- Scale: 3.6978595474472E7
-
Level ID: 5
[ Start Tile, End Tile ]
- Resolution: 4891.96981024998
- Scale: 1.8489297737236E7
- Format: PNG32
- Compression Quality: 0.0
- Origin: X: -2.0037508342787E7
Y: 2.0037508342787E7
- Spatial Reference: 102100
(3857)
LatestVCSWkid(0)
Storage Info:
- Storage Format: esriMapCacheStorageModeCompactV2
- Packet Size: 128
Initial Extent:
XMin: -9431736.405575
YMin: 4628575.845030001
XMax: -9029128.686325
YMax: 5153114.381969997
Spatial Reference: 102100
(3857)
LatestVCSWkid(0)
Full Extent:
XMin: -9413436.0547
YMin: 4652418.505800001
XMax: -9047429.0372
YMax: 5129271.721199997
Spatial Reference: 102100
(3857)
LatestVCSWkid(0)
Units: esriMeters
Supported Image Format Types: PNG32,PNG24,PNG,JPG,DIB,TIFF,EMF,PS,PDF,GIF,SVG,SVGZ,BMP
Document Info:
Title: Map
Author:
Comments:
Subject:
Category:
Keywords:
AntialiasingMode: None
TextAntialiasingMode: Force
Supports Dynamic Layers: true
MaxRecordCount: 2000
MaxSelectionCount: 2000
MaxImageHeight: 4096
MaxImageWidth: 4096
Supported Query Formats: JSON, geoJSON, PBF
Supports Query Data Elements: true
Min Scale: 7.3957190948944E7
Max Scale: 288895.277144
Min LOD: 3
Max LOD: 11
Supports Datum Transformation: true
Child Resources:
Info
Dynamic Layer
Supported Operations:
Export Map
Identify
QueryLegends
QueryDomains
Find
Return Updates